






BEGIN:VCALENDAR
VERSION:2.0
PRODID:-//Old EISCAT - ECPv6.15.16//NONSGML v1.0//EN
CALSCALE:GREGORIAN
METHOD:PUBLISH
X-WR-CALNAME:Old EISCAT
X-ORIGINAL-URL:https://old.eiscat.se
X-WR-CALDESC:Events for Old EISCAT
REFRESH-INTERVAL;VALUE=DURATION:PT1H
X-Robots-Tag:noindex
X-PUBLISHED-TTL:PT1H
BEGIN:VTIMEZONE
TZID:Europe/Stockholm
BEGIN:DAYLIGHT
TZOFFSETFROM:+0100
TZOFFSETTO:+0200
TZNAME:CEST
DTSTART:20210328T010000
END:DAYLIGHT
BEGIN:STANDARD
TZOFFSETFROM:+0200
TZOFFSETTO:+0100
TZNAME:CET
DTSTART:20211031T010000
END:STANDARD
BEGIN:DAYLIGHT
TZOFFSETFROM:+0100
TZOFFSETTO:+0200
TZNAME:CEST
DTSTART:20220327T010000
END:DAYLIGHT
BEGIN:STANDARD
TZOFFSETFROM:+0200
TZOFFSETTO:+0100
TZNAME:CET
DTSTART:20221030T010000
END:STANDARD
BEGIN:DAYLIGHT
TZOFFSETFROM:+0100
TZOFFSETTO:+0200
TZNAME:CEST
DTSTART:20230326T010000
END:DAYLIGHT
BEGIN:STANDARD
TZOFFSETFROM:+0200
TZOFFSETTO:+0100
TZNAME:CET
DTSTART:20231029T010000
END:STANDARD
BEGIN:DAYLIGHT
TZOFFSETFROM:+0100
TZOFFSETTO:+0200
TZNAME:CEST
DTSTART:20240331T010000
END:DAYLIGHT
BEGIN:STANDARD
TZOFFSETFROM:+0200
TZOFFSETTO:+0100
TZNAME:CET
DTSTART:20241027T010000
END:STANDARD
BEGIN:DAYLIGHT
TZOFFSETFROM:+0100
TZOFFSETTO:+0200
TZNAME:CEST
DTSTART:20250330T010000
END:DAYLIGHT
BEGIN:STANDARD
TZOFFSETFROM:+0200
TZOFFSETTO:+0100
TZNAME:CET
DTSTART:20251026T010000
END:STANDARD
END:VTIMEZONE
BEGIN:VTIMEZONE
TZID:Europe/Helsinki
BEGIN:DAYLIGHT
TZOFFSETFROM:+0200
TZOFFSETTO:+0300
TZNAME:EEST
DTSTART:20200329T010000
END:DAYLIGHT
BEGIN:STANDARD
TZOFFSETFROM:+0300
TZOFFSETTO:+0200
TZNAME:EET
DTSTART:20201025T010000
END:STANDARD
BEGIN:DAYLIGHT
TZOFFSETFROM:+0200
TZOFFSETTO:+0300
TZNAME:EEST
DTSTART:20210328T010000
END:DAYLIGHT
BEGIN:STANDARD
TZOFFSETFROM:+0300
TZOFFSETTO:+0200
TZNAME:EET
DTSTART:20211031T010000
END:STANDARD
BEGIN:DAYLIGHT
TZOFFSETFROM:+0200
TZOFFSETTO:+0300
TZNAME:EEST
DTSTART:20220327T010000
END:DAYLIGHT
BEGIN:STANDARD
TZOFFSETFROM:+0300
TZOFFSETTO:+0200
TZNAME:EET
DTSTART:20221030T010000
END:STANDARD
END:VTIMEZONE
BEGIN:VEVENT
DTSTART;VALUE=DATE:20240815
DTEND;VALUE=DATE:20241003
DTSTAMP:20260420T204718
CREATED:20240830T054151Z
LAST-MODIFIED:20240916T133508Z
UID:23907-1723680000-1727913599@old.eiscat.se
SUMMARY:PITHIA-NRF Trans-National Access (TNA) Open Call
DESCRIPTION:PITHIA-NRF launches its seventh call. This is the FINAL call in the frame of PITHIA-NRF project to provide effective and convenient access to the best European research facilities for observations of the upper atmosphere\, including the plasmasphere\, ionosphere and thermosphere. The access is organised through the Trans-National Access (TNA) programme\, and provides an opportunity for researcher and other users to execute and carry out their own projects at one of the PITHIA-NRF research facilities. \nThe call is open from 15 August 2024. It is an Open Call and applications are handled as they arrive with typical evaluation times of 2 to 3 weeks. If accepted the projects can commence for organisation and realisation from September 2024 and the project report must be submitted at the latest by the end of February 2025. The call closes on 2 October 2024. \nMore information about the call can be obtained from the call website: https://pithia-nrf.eu/pithia-nrf-users/tna/tna-calls/seventh-tna-call \nAccess can be requested by scientific users from academia\, Small and Medium Enterprises\, large companies and public organizations by propose a scientific project and fill in the online application form.
URL:https://old.eiscat.se/event/pithia-nrf-trans-national-access-tna-open-call-3/
CATEGORIES:Applications
ORGANIZER;CN="PITHIA-NRF":MAILTO:tna@pithia-nrf.eu
END:VEVENT
BEGIN:VEVENT
DTSTART;VALUE=DATE:20240115
DTEND;VALUE=DATE:20240601
DTSTAMP:20260420T204718
CREATED:20240117T154603Z
LAST-MODIFIED:20240117T154603Z
UID:23018-1705276800-1717199999@old.eiscat.se
SUMMARY:PITHIA-NRF Trans-National Access (TNA) Open Call
DESCRIPTION:PITHIA-NRF (Plasmasphere Ionosphere Thermosphere Integrated Research Environment and Access services: a Network of Research Facilities) launches its sixth call to provide effective and convenient access to the best European research facilities for observations of the upper atmosphere\, including the plasmasphere\, ionosphere and thermosphere. The access is organised through the Trans-National Access (TNA) programme\, and provides an opportunity for researcher and other users to execute and carry out their own projects at one of the twelve PITHIA-NRF research facilities. You can get information on the PITHIA-NRF Nodes here and view details on PITHIA-NRF assets by accessing the PITHIA-NRF Knowledge Book here.\n \nWhat? \nThe PITHIA-NRF nodes provide access to key experimental and data processing facilities for studies and modelling of physical processes acting in the Earth’s plasmasphere\, ionosphere and thermosphere. The facilities connected to the nodes are geographically distributed over Europe\, as well as internationally\, and their expertise and dedication span over a wide range of topics within the research area. \nUsers can request either physical access (one-week visit at the node with support at site) or remote access (one month access from distance with weekly support). Users with granted projects will learn how to work with the facilities during the full access cycle\, from setting up a campaign\, to collection\, analysis and finally exploitation of data. \nWhen? \nThe call is an Open Call – applications are handled as they arrive with typical evaluation times of 2 to 3 weeks. The call closes on 31 May 2024. \nWho? \nAccess can be requested by scientific users from academia\, Small and Medium Enterprises\, large companies and public organizations. \nHow? \nThe application is made by using the online form. Follow the instructions at the PITHIA-NRF webpage for the Sixth TNA Call. We strongly encourage any potential applicants to discuss with the relevant node about the project before submitting their proposals. The TNA Support Centre at PITHIA-NRF can help establishing contact points with the nodes. \nContact: \nTNA Support Centre: tna@pithia-nrf.eu
URL:https://old.eiscat.se/event/pithia-nrf-trans-national-access-tna-open-call-2/
CATEGORIES:Applications
ATTACH;FMTTYPE=image/jpeg:https://old.eiscat.se/wp-content/uploads/2024/01/asteroskopio-logo-colour-high.jpg
END:VEVENT
BEGIN:VEVENT
DTSTART;VALUE=DATE:20230901
DTEND;VALUE=DATE:20231201
DTSTAMP:20260420T204718
CREATED:20230906T135656Z
LAST-MODIFIED:20231031T062641Z
UID:22842-1693526400-1701388799@old.eiscat.se
SUMMARY:PITHIA-NRF Trans-National Access (TNA) Open Call
DESCRIPTION:PITHIA-NRF (Plasmasphere Ionosphere Thermosphere Integrated Research Environment and Access services: a Network of Research Facilities) launches its fifth call to provide effective and convenient access to the best European research facilities for observations of the upper atmosphere\, including the plasmasphere\, ionosphere and thermosphere. The access is organised through the Trans-National Access (TNA) programme\, and provides an opportunity for researcher and other users to execute and carry out their own projects at one of the twelve PITHIA-NRF research facilities. You can get information on the PITHIA-NRF Nodes here and view details on PITHIA-NRF assets by accessing the PITHIA-NRF Knowledge Book here. \nWhat? \nThe PITHIA-NRF nodes provide access to key experimental and data processing facilities for studies and modelling of physical processes acting in the Earth’s plasmasphere\, ionosphere and thermosphere. The facilities connected to the nodes are geographically distributed over Europe\, as well as internationally\, and their expertise and dedication span over a wide range of topics within the research area. \nUsers can request either physical access (one-week visit at the node with support at site) or remote access (one month access from distance with weekly support). Users with granted projects will learn how to work with the facilities during the full access cycle\, from setting up a campaign\, to collection\, analysis and finally exploitation of data. \nWhen? \nThe call opened at 1 September 2023. It is an Open Call and applications are handled as they arrive with evaluation times of 2 to 3 weeks. If accepted the projects can commence for organisation and realisation from October 2023. The call closes on 30 November 2023. \nWho? \nAccess can be requested by scientific users from academia\, Small and Medium Enterprises\, large companies and public organizations. \nHow? \nThe application is made by using the online form. Follow the instructions at https://pithia-nrf.eu/pithia-nrf-users/tna/tna-calls/fifth-tna-call. We strongly encourage any potential applicants to discuss with the relevant node about the project before submitting their proposals. The TNA Support Centre at PITHIA-NRF can help establishing contact points with the nodes. \nContact: \nTNA Support Centre: tna@pithia-nrf.eu
URL:https://old.eiscat.se/event/pithia-nrf-trans-national-access-tna-open-call/
CATEGORIES:Applications
END:VEVENT
BEGIN:VEVENT
DTSTART;VALUE=DATE:20220630
DTEND;VALUE=DATE:20220701
DTSTAMP:20260420T204718
CREATED:20220608T070414Z
LAST-MODIFIED:20220608T070548Z
UID:22042-1656547200-1656633599@old.eiscat.se
SUMMARY:Call for expression of interest
DESCRIPTION:Call for expression of interest\n\n\n\nExpression of interest to host a MSCA PF\n\n\n\nSpace Campus in Kiruna is a world-renowned hub for space research and technology. It consists primarily of Swedish Institute for Space Physics (IRF)\, EISCAT Scientific Association and the Luleå University of Technology (LTU). We work closely with the European Space Agency (ESA) and the launch facility Esrange Space Center. \n\n\n\nWe would like to invite interested post-doctoral fellows to be hosted at Space Campus in Kiruna via the Horizon Europe MSCA PF instrument. The Marie Sklodowska-Curie Actions Postdoctoral Fellowships 2022 (HORIZON-MSCA-2022-PF-01-01) is a prestigious 2-year\, fully funded individual fellowship aiming at enhancing the scientific and innovative potential of researchers holding a PhD and who wish to broaden their skills MSCA Postdoctoral Fellowships will be open to excellent researchers of any nationality who fulfill the MSCA mobility rule. \n\n\n\nResearch and innovation\n\n\n\nIf you have an interesting research and innovation idea in the areas of: \n\n\n\n\nspace physics.\natmospheric physics.\nspace technology & systems.\n\n\n\n\nWould you like to bring it to fruition at the exciting and exotic Space Campus in Kiruna in Swedish Lapland?  Then let’s talk! It helps to have a look at the call link posted below\, but no worries\, we can help you with the proposal submission. \n\n\n\nContact us\n\n\n\nInterested candidates should contact us to discuss their ideas\, and how it fits in our research and development environment. Alternatively\, candidates can submit a 1-page out-line of their ideas together with a CVs to the contacts mentioned below. Because of the time required to prepare a full proposal\, we will close this expression of interest by 30 June 2022. \n\n\n\n\n\n\n\nInstitute\nPrimary contact\n\n\nIRF\nolle.norberg@irf.se johan.kero@irf.se\n\n\nEISCAT\naxel.steuwer@old.eiscat.se johan.kero@irf.se\n\n\nLTU\nrene.laufer@ltu.se axel.hagermann@ltu.se\n\n\n\n\n\n\n\n\n\nCall for expression of interest: https://euraxess.ec.europa.eu/jobs/hosting/expression-interest-host-msca-pf
URL:https://old.eiscat.se/event/call-for-expression-of-interest/
LOCATION:Space Campus\, Bengt Hultqvists väg 1\, Kiruna\, 98192\, Sweden
CATEGORIES:Applications
END:VEVENT
BEGIN:VEVENT
DTSTART;TZID=Europe/Helsinki:20210801T230000
DTEND;TZID=Europe/Helsinki:20210801T230000
DTSTAMP:20260420T204718
CREATED:20200611T062116Z
LAST-MODIFIED:20211006T075418Z
UID:17448-1627858800-1627858800@old.eiscat.se
SUMMARY:EISCAT Peer-reviewed Program experiments
DESCRIPTION:EISCAT Scientific Association invites applications for observing time on the EISCAT facilities in 2021\, by individual scientists\, research groups\, and consortia throughout the world on equal\, competitive basis. Deadline for applications 1 August 2021.\nRead more here: EISCAT Peer-reviewed Program experiments
URL:https://old.eiscat.se/event/eiscat-peer-reviewed-program-experiments/
CATEGORIES:Applications
END:VEVENT
END:VCALENDAR