






BEGIN:VCALENDAR
VERSION:2.0
PRODID:-//Old EISCAT - ECPv6.15.16//NONSGML v1.0//EN
CALSCALE:GREGORIAN
METHOD:PUBLISH
X-WR-CALNAME:Old EISCAT
X-ORIGINAL-URL:https://old.eiscat.se
X-WR-CALDESC:Events for Old EISCAT
REFRESH-INTERVAL;VALUE=DURATION:PT1H
X-Robots-Tag:noindex
X-PUBLISHED-TTL:PT1H
BEGIN:VTIMEZONE
TZID:Europe/Stockholm
BEGIN:DAYLIGHT
TZOFFSETFROM:+0100
TZOFFSETTO:+0200
TZNAME:CEST
DTSTART:20220327T010000
END:DAYLIGHT
BEGIN:STANDARD
TZOFFSETFROM:+0200
TZOFFSETTO:+0100
TZNAME:CET
DTSTART:20221030T010000
END:STANDARD
BEGIN:DAYLIGHT
TZOFFSETFROM:+0100
TZOFFSETTO:+0200
TZNAME:CEST
DTSTART:20230326T010000
END:DAYLIGHT
BEGIN:STANDARD
TZOFFSETFROM:+0200
TZOFFSETTO:+0100
TZNAME:CET
DTSTART:20231029T010000
END:STANDARD
BEGIN:DAYLIGHT
TZOFFSETFROM:+0100
TZOFFSETTO:+0200
TZNAME:CEST
DTSTART:20240331T010000
END:DAYLIGHT
BEGIN:STANDARD
TZOFFSETFROM:+0200
TZOFFSETTO:+0100
TZNAME:CET
DTSTART:20241027T010000
END:STANDARD
BEGIN:DAYLIGHT
TZOFFSETFROM:+0100
TZOFFSETTO:+0200
TZNAME:CEST
DTSTART:20250330T010000
END:DAYLIGHT
BEGIN:STANDARD
TZOFFSETFROM:+0200
TZOFFSETTO:+0100
TZNAME:CET
DTSTART:20251026T010000
END:STANDARD
BEGIN:DAYLIGHT
TZOFFSETFROM:+0100
TZOFFSETTO:+0200
TZNAME:CEST
DTSTART:20260329T010000
END:DAYLIGHT
BEGIN:STANDARD
TZOFFSETFROM:+0200
TZOFFSETTO:+0100
TZNAME:CET
DTSTART:20261025T010000
END:STANDARD
END:VTIMEZONE
BEGIN:VTIMEZONE
TZID:Europe/Paris
BEGIN:DAYLIGHT
TZOFFSETFROM:+0100
TZOFFSETTO:+0200
TZNAME:CEST
DTSTART:20180325T010000
END:DAYLIGHT
BEGIN:STANDARD
TZOFFSETFROM:+0200
TZOFFSETTO:+0100
TZNAME:CET
DTSTART:20181028T010000
END:STANDARD
BEGIN:DAYLIGHT
TZOFFSETFROM:+0100
TZOFFSETTO:+0200
TZNAME:CEST
DTSTART:20190331T010000
END:DAYLIGHT
BEGIN:STANDARD
TZOFFSETFROM:+0200
TZOFFSETTO:+0100
TZNAME:CET
DTSTART:20191027T010000
END:STANDARD
BEGIN:DAYLIGHT
TZOFFSETFROM:+0100
TZOFFSETTO:+0200
TZNAME:CEST
DTSTART:20200329T010000
END:DAYLIGHT
BEGIN:STANDARD
TZOFFSETFROM:+0200
TZOFFSETTO:+0100
TZNAME:CET
DTSTART:20201025T010000
END:STANDARD
BEGIN:DAYLIGHT
TZOFFSETFROM:+0100
TZOFFSETTO:+0200
TZNAME:CEST
DTSTART:20210328T010000
END:DAYLIGHT
BEGIN:STANDARD
TZOFFSETFROM:+0200
TZOFFSETTO:+0100
TZNAME:CET
DTSTART:20211031T010000
END:STANDARD
BEGIN:DAYLIGHT
TZOFFSETFROM:+0100
TZOFFSETTO:+0200
TZNAME:CEST
DTSTART:20220327T010000
END:DAYLIGHT
BEGIN:STANDARD
TZOFFSETFROM:+0200
TZOFFSETTO:+0100
TZNAME:CET
DTSTART:20221030T010000
END:STANDARD
END:VTIMEZONE
BEGIN:VEVENT
DTSTART;TZID=Europe/Stockholm:20251202T120000
DTEND;TZID=Europe/Stockholm:20251203T120000
DTSTAMP:20260420T193313
CREATED:20251112T075533Z
LAST-MODIFIED:20251112T075630Z
UID:24523-1764676800-1764763200@old.eiscat.se
SUMMARY:20th EISCAT_3D User Meeting
DESCRIPTION:20th EISCAT_3D User Meeting (2025-2)\n\n\n\nThe 20th E3D User Meeting (UM) will take place on December 2-3 (week 49). The meeting will start on Tuesday\, Dec 2\, after lunch. The meeting will end on Wednesday\, Dec 3\, before lunch or end of working day depending on interest and submitted presentation/discussion points. The UM will be hybrid\, i.e. physical attendance is at the EISCAT HQ/IRF in Kiruna\, and online participation via Zoom. \n\n\n\nPreliminary subjects of presentations/discussions are E3D data analysis\, a new GUISDAP and other tools\, E3D Common Programmes\, and Visualization. \n\n\n\nWe’ll stick to the traditional scheme with short presentations followed by questions and discussion. Submissions of titles/short abstracts are welcome. The web pages of previous meetings\, 19th E3D UM and 18th E3D UM and earlier\, can give an impression for the arrangements and programme which include in some cases links to the presentation slides. \n\n\n\nThis announcement was last updated on November 4\, 2025. \n\n\n\n————————- \n\n\n\nRegistration\n\n\n\nRegistration is by filling this Google form. Optionally preliminary titles of presentatons/posters and other comments can be filled. The names and email addresses of registered persons will be used to provide the Zoom link and other updates about the meeting by email. They will be stored as long as E3D User meetings are regularly held\, unless specific removals are requested. \n\n\n\nProgramme\n\n\n\nContributions on any E3D related subject can be submitted. Especially encouraged are discussions of E3D data analysis\, raw and analysed data organization\, E3D Common Programmes\, and Visualization. An ad-hoc programme committee of volunteers might be asked to help if many submissions are received and some need to be postponed to a later user meeting. \n\n\n\nPractical Information\n\n\n\nThe workshop will take place at the IRF premises at the Rymdcampus in Kiruna. The campus can be reached by Länstrafiken Norrbotten bus 501. Online participation is via the Zoom tool licensed by IRF\, i.e. there is no exchange of personal data such as names and email addresses with third parties. We do not intend to record the meeting but will make presentation slides publicly available also for some time after the meeting\, if the presenters agree. \n\n\n\nContact\n\n\n\nFor questions and comments please contact Stephan Buchert or Thomas Ulich.  
URL:https://old.eiscat.se/event/20th-eiscat_3d-user-meeting/
LOCATION:Space Campus\, Bengt Hultqvists väg 1\, Kiruna\, 98192\, Sweden
CATEGORIES:EISCAT3D User Meeting
ORGANIZER;CN="EISCAT AB":MAILTO:contact.us@old.eiscat.se
END:VEVENT
BEGIN:VEVENT
DTSTART;VALUE=DATE:20250507
DTEND;VALUE=DATE:20250509
DTSTAMP:20260420T193313
CREATED:20250331T074413Z
LAST-MODIFIED:20250331T074447Z
UID:24265-1746576000-1746748799@old.eiscat.se
SUMMARY:19th E3D user meeting
DESCRIPTION:The 19th E3D User Meeting\nThe meeting will take place hybrid in Uppsala Ångströmlaboratory IRF/Online May 7-8\, 2025. \nPlease find more information at: https://www.space.irfu.se/workshops/EISCAT-3D_User2025/ \nPreliminary subjects of presentations/discussions are: \n\n\n\nE3D data analyisis\n1st experiments\nCommon Programmes\nVisualization and\n\n\n\nMore topics depending on your input and contributions. \nThe registration link is: https://forms.gle/x9siEacjvdNgumfs6
URL:https://old.eiscat.se/event/19th-e3d-user-meeting/
LOCATION:Uppsala\, Sweden
CATEGORIES:EISCAT3D User Meeting,Meeting
END:VEVENT
BEGIN:VEVENT
DTSTART;VALUE=DATE:20241203
DTEND;VALUE=DATE:20241205
DTSTAMP:20260420T193313
CREATED:20241120T082034Z
LAST-MODIFIED:20241120T082034Z
UID:23983-1733184000-1733356799@old.eiscat.se
SUMMARY:18th EISCAT_3D User Meeting
DESCRIPTION:The 18th E3D User Meeting\nDate: December 3-4 (week 49). The meeting will start on Tuesday\, Dec 3\, in the morning or after lunch depending on interest and submitted presentation/discussion points. The meeting will end on Wednesday\, Dec 4\, lunch. \nLocation: The meeting will be hybrid\, i.e. physical attendance is at EISCAT/IRF Rymdcampus in Kiruna\, and online participation via Zoom. \nPreliminary subjects of presentations/discussions are E3D data analysis\, first experiments\, E3D Common Programmes\, and Visualization. \nRegistration and information: https://www.space.irfu.se/workshops/EISCAT-3D_User2024-2/ \n 
URL:https://old.eiscat.se/event/18th-eiscat_3d-user-meeting/
LOCATION:Rymdcampus\, Kiruna\, Sweden
CATEGORIES:EISCAT3D User Meeting,Meeting
END:VEVENT
BEGIN:VEVENT
DTSTART;VALUE=DATE:20231130
DTEND;VALUE=DATE:20231202
DTSTAMP:20260420T193313
CREATED:20231030T112641Z
LAST-MODIFIED:20231030T113443Z
UID:22938-1701302400-1701475199@old.eiscat.se
SUMMARY:16th EISCAT_3D User Meeting 2023
DESCRIPTION:The 16th E3D User Meeting\nNovember 30 to December 1\, 2023. \nThe User Meetin will be hybrid\, i.e. physical attendance is at EISCAT/IRF Rymdcampus in Kiruna\, and online participation via Zoom. \nPreliminary subjects of presentations/discussions are: \n\nfirst experiments\, their data organization\, profiles vs voxels\nE3D Common Programmes\nVisualization\n\nWe’ll stick to the traditional scheme with short presentations followed by questions and discussion. Submissions of titles/short abstracts are welcome. The web pages of previous meetings\, 15th E3D UM and 14th E3D UM and earlier\, can give an impression for the arrangements and programme which include in some cases links to the presentation slides. \nRegistration\nRegistration is by filling this Google form. \nMore information and contact: https://www.space.irfu.se/workshops/E3D_User2023-2/
URL:https://old.eiscat.se/event/16th-eiscat_3d-user-meeting-2023/
LOCATION:Rymdcampus\, Kiruna\, Sweden
CATEGORIES:EISCAT3D User Meeting
END:VEVENT
BEGIN:VEVENT
DTSTART;VALUE=DATE:20230523
DTEND;VALUE=DATE:20230526
DTSTAMP:20260420T193313
CREATED:20230406T073916Z
LAST-MODIFIED:20230406T073916Z
UID:22648-1684800000-1685059199@old.eiscat.se
SUMMARY:EISCAT_3D User Meeting 2023
DESCRIPTION:EISCAT_3D User Meeting 2023\nThe 15th E3D UM will take place within May 23-25\, 2023.  A mostly hybrid meeting with the possibility of either in person or online attendance is foreseen. \nThe EISCAT_3D (E3D) project\, stage 1\, is being constructed with sites in Skibotn (Norway)\, Karesuvanto (Finland)\, and Kaiseniemi (Sweden). User meetings have been regularly held\, with a break in year 2022. The meetings provide a forum for interested scientists who may or may not be directly involved in the design and construction of the E3D project\, and also for persons working more with its administrative\, logistic\, and technical aspects. \nMore information and registration: https://www.space.irfu.se/workshops/E3D_User2023/
URL:https://old.eiscat.se/event/eiscat_3d-user-meeting-2023/
CATEGORIES:EISCAT3D User Meeting
END:VEVENT
BEGIN:VEVENT
DTSTART;TZID=Europe/Paris:20211129T130000
DTEND;TZID=Europe/Paris:20211130T120000
DTSTAMP:20260420T193313
CREATED:20211117T105327Z
LAST-MODIFIED:20211117T105611Z
UID:21558-1638190800-1638273600@old.eiscat.se
SUMMARY:4th EISCAT_3D User Meeting
DESCRIPTION:14th EISCAT_3D User Meeting\nwill be held combined with a 2nd software/data meeting on November 29-30\, from about 13 to 12 CEST\, “lunch-to-lunch”. \nPlease see the announcement at: https://www.space.irfu.se/workshops/EISCAT-3D_User2021-3/ \nTo participate please fill the form at: https://forms.gle/YcZeZXq24NYzQxhNA
URL:https://old.eiscat.se/event/4th-eiscat_3d-user-meeting/
CATEGORIES:EISCAT3D User Meeting,Meeting
END:VEVENT
BEGIN:VEVENT
DTSTART;TZID=Europe/Paris:20210305T090000
DTEND;TZID=Europe/Paris:20210305T130000
DTSTAMP:20260420T193313
CREATED:20210223T133902Z
LAST-MODIFIED:20210223T133902Z
UID:18357-1614934800-1614949200@old.eiscat.se
SUMMARY:12th EISCAT_3D User Meeting
DESCRIPTION:The EISCAT_3D (E3D) project has been officially started with an opening event on September 7\, 2017\, and is now constructing stage 1. User meetings have been regularly held. Presently  they are held online (Zoom) with a cadence of about 2-3 months. A 12th User Meeting will take place in March 2021\, anticipated duration is about half a day.  As usual\, the meetings should provide a forum for interested scientists who may or may not be directly involved in the design and construction of the E3D project\, and also for persons working more with its administrative\, logistic\, and technical aspects. \nThe meeting will take place on March 5\, 2021\,  9-13 CET. This was the most voted date/time on a Doodle. \nThe suggested general subject of the 12th E3D User meeting is the EISCAT Heater and also the ESR\, especially their future. Also software interfaces between E3D and users\, for scientific analysis of E3D data and radar operations may warrant further discussion after the 11th E3D UM. We’ll stick to the traditional scheme with short presentations followed by questions and discussion. Submissions of titles/short abstracts are welcome. Most of the presentation slides from the 11th E3D UM are linked at the meeting page.\n  \n\n\nRegistration\nRegistration can be done by filling  this Google form. The names and email addresses of registered persons will be used to provide the Zoom link and other updates about the meeting by email. If you have registered for the previous E3D UM in Dec 2020\, you will also receive the Zoom link and other info for this meeting\, and you don’t need to register again. If you would like to submit a presentation or leave other comments\, please use the form or email. The names and emails of persons will be stored as long as E3D User meetings are regularly held\, unless specific removals are requested. \nProgramme\nContributions on any E3D related subject can be submitted. Especially encouraged for this 12th meeting are contributions to science related to the EISCAT Heater and its future. Software interfaces between E3D and users\, and on the scientific analysis of E3D data would also be suitable subjects. The programme of the previous 11th meeting has links to most of the presentations that were given.\n\nPractical Information\nThe workshop will use the Zoom tool licensed by the Uppsala University. The server is operated by Uppsala University which assures that no data exchange with third parties occurs. We do not intend to record the meeting but will make presentation slides publicly available also for some time after the meeting\, if the presenter agrees.
URL:https://old.eiscat.se/event/12th-eiscat_3d-user-meeting/
LOCATION:Online
CATEGORIES:EISCAT3D User Meeting,Meeting
END:VEVENT
BEGIN:VEVENT
DTSTART;TZID=Europe/Paris:20201216T130000
DTEND;TZID=Europe/Paris:20201216T170000
DTSTAMP:20260420T193313
CREATED:20201127T124033Z
LAST-MODIFIED:20201204T122752Z
UID:17818-1608123600-1608138000@old.eiscat.se
SUMMARY:11th E3D User Meeting
DESCRIPTION:Digital meeting due to the Corona pandemic\nThe EISCAT_3D (E3D) project has been officially started with an opening event on September 7\, 2017\, and is now constructing stage 1. A 11th user meeting was scheduled to take place with physical attendance in Uppsala\, Sweden. \nAs a result of the pandemia and measures to constrain it\, the plans for the 11th meeting had to be revised. We will go for online (Zoom) meetings of about half a day duration\, with a monthly to bi-monthly cadence. As usual\, the meetings should provide a forum for interested scientists who may or may not be directly involved in the design and construction of the E3D project\, and also for persons working more with its administrative\, logistic\, and technical aspects. \nThe initial online E3D user meeting will take place on Wednesday\, December 16\, at 13-17 CET. A next meeting is foreseen for January 2021. \nThe suggested general subject of the 11th E3D User meeting is software interfaces between E3D and users\, for scientific analysis of E3D data and perhaps also for radar operations. We’ll stick to the traditional scheme with short presentations followed by questions and discussion. Submissions of titles/short abstracts are welcome. \nRegistration\nPlease visit https://forms.gle/Z6kBUm1mDqh7NDv49 to register. Registration is needed to get the Zoom link for the meeting. The form also allows to submit optionally a title and short abstract of one presentation. Alternatively contact Stephan Buchert (scb@irfu.se) by email if you would like to present something of interest. \nThe suggested general subject is software interfaces between the E3D project and users\, for scientific data analysis etc. Also comments on the new structure of the coming E3D user meetings are welcome. \nPractical Information\nThe workshop will use the Zoom tool licensed by the Uppsala University. The server is operated by Uppsala University which assures that no data exchange with third parties occurs. We do not intend to record the meeting but will make presentation slides publicly available also for some time after the meeting\, if the presenter agrees. \n  \nRead more here: https://www.space.irfu.se/workshops/EISCAT-3D_User2020/
URL:https://old.eiscat.se/event/11th-e3d-user-meeting/
LOCATION:Teleconference
CATEGORIES:EISCAT3D User Meeting,Meeting
END:VEVENT
BEGIN:VEVENT
DTSTART;TZID=Europe/Paris:20190521T130000
DTEND;TZID=Europe/Paris:20190522T170000
DTSTAMP:20260420T193313
CREATED:20190326T084826Z
LAST-MODIFIED:20190404T103820Z
UID:15314-1558443600-1558544400@old.eiscat.se
SUMMARY:10th EISCAT_3D User's meeting in Uppsala\, Sweden: 21-22 may 2019
DESCRIPTION:The EISCAT_3D (E3D) User’s meeting provides a forum for interested scientists who may or may not be directly involved in the design and construction of the E3D project\, and for persons working more with its administrative\, logistic and technical aspects. \nProgramme\nThis years special topic is tentatively “Planning and preparations for the first scatter signals\, standard modes of operation\, Common Programmes\, and software packages for EISCAT_3D.” \nContributions about the future of the Heating facility and the ESR are encouraged. \nStart: Tuesday\, May 21 at 13 pm (preliminary) with core meeting. \nPreparatory meetings\, splinters\, etc. upon request. \nPreliminary programme\nMay 21\, Tuesday\, 13.00-17.00:\nSpecial Topic as well as general EISCAT and E3D Science: New results and future plans.\nMay 22\, Wednesday\, 9.00-17.00:\nFuture of the Heating facility and the ESR\, general EISCAT and E3D Science: New results and future plans. \nFor suggestions about the meeting programme\, contact the programme committee. \nProgramme committee\nAnita Aikio \nLisa Baddeley \nCraig Heinselman \nJohan Kero \nIan McCrea \nYasunobu Ogawa \n  \nOrganizer: Stephan Buchert \nRegistration\nRegistration deadline: April 26\, 2019 \nRegistration: scb@irfu.se. \nPlease note if you would like to have assistance for reserving accommodation. \nLocation\nÅngströmlaboratoriet of the Uppsala University \n  \nAccomodation\nAccommodation in Uppsala is often difficult to find for the time of the workshop\, we recommend that you book as soon as possible.
URL:https://old.eiscat.se/event/10th-eiscat_3d-users-meeting-in-uppsala-sweden-21-22-may-2019/
LOCATION:Uppsala\, Sweden
CATEGORIES:EISCAT3D User Meeting,Meeting
END:VEVENT
BEGIN:VEVENT
DTSTART;VALUE=DATE:20190326
DTEND;VALUE=DATE:20190327
DTSTAMP:20260420T193313
CREATED:20181121T142129Z
LAST-MODIFIED:20190321T115701Z
UID:13934-1553558400-1553644799@old.eiscat.se
SUMMARY:The Finnish EISCAT_3D User's meeting is 26 March 2019 in Oulu\, Finland.
DESCRIPTION:The 1st Finnish EISCAT_3D User Meeting aims to inform the broad space physics\, atmospheric and radio science community on the current status and the future plans concerning the EISCAT_3D radar facility.
URL:https://old.eiscat.se/event/the-finnish-eiscat_3d-users-meeting-is-26-march-2019-in-oulu-finland/
LOCATION:Oulu\, Finland\, Oulu\, Finland
CATEGORIES:EISCAT3D User Meeting,Meeting
END:VEVENT
END:VCALENDAR