






BEGIN:VCALENDAR
VERSION:2.0
PRODID:-//Old EISCAT - ECPv6.15.16//NONSGML v1.0//EN
CALSCALE:GREGORIAN
METHOD:PUBLISH
X-ORIGINAL-URL:https://old.eiscat.se
X-WR-CALDESC:Events for Old EISCAT
REFRESH-INTERVAL;VALUE=DURATION:PT1H
X-Robots-Tag:noindex
X-PUBLISHED-TTL:PT1H
BEGIN:VTIMEZONE
TZID:Europe/Paris
BEGIN:DAYLIGHT
TZOFFSETFROM:+0100
TZOFFSETTO:+0200
TZNAME:CEST
DTSTART:20180325T010000
END:DAYLIGHT
BEGIN:STANDARD
TZOFFSETFROM:+0200
TZOFFSETTO:+0100
TZNAME:CET
DTSTART:20181028T010000
END:STANDARD
BEGIN:DAYLIGHT
TZOFFSETFROM:+0100
TZOFFSETTO:+0200
TZNAME:CEST
DTSTART:20190331T010000
END:DAYLIGHT
BEGIN:STANDARD
TZOFFSETFROM:+0200
TZOFFSETTO:+0100
TZNAME:CET
DTSTART:20191027T010000
END:STANDARD
BEGIN:DAYLIGHT
TZOFFSETFROM:+0100
TZOFFSETTO:+0200
TZNAME:CEST
DTSTART:20200329T010000
END:DAYLIGHT
BEGIN:STANDARD
TZOFFSETFROM:+0200
TZOFFSETTO:+0100
TZNAME:CET
DTSTART:20201025T010000
END:STANDARD
BEGIN:DAYLIGHT
TZOFFSETFROM:+0100
TZOFFSETTO:+0200
TZNAME:CEST
DTSTART:20210328T010000
END:DAYLIGHT
BEGIN:STANDARD
TZOFFSETFROM:+0200
TZOFFSETTO:+0100
TZNAME:CET
DTSTART:20211031T010000
END:STANDARD
BEGIN:DAYLIGHT
TZOFFSETFROM:+0100
TZOFFSETTO:+0200
TZNAME:CEST
DTSTART:20220327T010000
END:DAYLIGHT
BEGIN:STANDARD
TZOFFSETFROM:+0200
TZOFFSETTO:+0100
TZNAME:CET
DTSTART:20221030T010000
END:STANDARD
END:VTIMEZONE
BEGIN:VEVENT
DTSTART;VALUE=DATE:20211007
DTEND;VALUE=DATE:20211009
DTSTAMP:20260420T222532
CREATED:20210923T071405Z
LAST-MODIFIED:20210923T071405Z
UID:18720-1633564800-1633737599@old.eiscat.se
SUMMARY:80th SAC Meeting
DESCRIPTION:The 80th meeting of the Scientific Advisory Committee will be held digitally 7 – 8 October 2021.
URL:https://old.eiscat.se/event/80th-sac-meeting/
LOCATION:Digital meeting
CATEGORIES:Meeting,SAC Meeting
END:VEVENT
BEGIN:VEVENT
DTSTART;VALUE=DATE:20210413
DTEND;VALUE=DATE:20210415
DTSTAMP:20260420T222532
CREATED:20210317T091514Z
LAST-MODIFIED:20210317T093323Z
UID:18460-1618272000-1618444799@old.eiscat.se
SUMMARY:79th SAC meeting
DESCRIPTION:The 79th meeting of the Scientific Advisory Committee will be held digitally 13-14 April 2021.
URL:https://old.eiscat.se/event/79th-sac-meeting-13-14-april-2021/
LOCATION:Digital meeting
CATEGORIES:Meeting,SAC Meeting
END:VEVENT
BEGIN:VEVENT
DTSTART;VALUE=DATE:20190823
DTEND;VALUE=DATE:20190825
DTSTAMP:20260420T222532
CREATED:20181121T142735Z
LAST-MODIFIED:20181121T143548Z
UID:13946-1566518400-1566691199@old.eiscat.se
SUMMARY:The autumn EISCAT SAC meeting 23-24 August 2019 in Oulu\, Finland
DESCRIPTION:
URL:https://old.eiscat.se/event/the-autumn-eiscat-sac-meeting-is-23-24-august-2019-in-oulu-finland/
LOCATION:Oulu\, Finland\, Oulu\, Finland
CATEGORIES:Meeting,SAC Meeting
END:VEVENT
BEGIN:VEVENT
DTSTART;VALUE=DATE:20190226
DTEND;VALUE=DATE:20190228
DTSTAMP:20260420T222532
CREATED:20181116T153615Z
LAST-MODIFIED:20181121T143645Z
UID:8266-1551139200-1551311999@old.eiscat.se
SUMMARY:EISCAT SAC Meeting in Beijing. 26-27 February\, 2019
DESCRIPTION:Meeting time moved from 27-28 Feb. 2019 to 26-27 Feb. 2019
URL:https://old.eiscat.se/event/eiscat-sac-meeting-in-beijing-27-28-february-2019/
LOCATION:Beijing\, China\, Beijing\, China
CATEGORIES:Meeting,SAC Meeting
END:VEVENT
END:VCALENDAR