






BEGIN:VCALENDAR
VERSION:2.0
PRODID:-//Old EISCAT - ECPv6.15.16//NONSGML v1.0//EN
CALSCALE:GREGORIAN
METHOD:PUBLISH
X-ORIGINAL-URL:https://old.eiscat.se
X-WR-CALDESC:Events for Old EISCAT
REFRESH-INTERVAL;VALUE=DURATION:PT1H
X-Robots-Tag:noindex
X-PUBLISHED-TTL:PT1H
BEGIN:VTIMEZONE
TZID:Europe/Stockholm
BEGIN:DAYLIGHT
TZOFFSETFROM:+0100
TZOFFSETTO:+0200
TZNAME:CEST
DTSTART:20220327T010000
END:DAYLIGHT
BEGIN:STANDARD
TZOFFSETFROM:+0200
TZOFFSETTO:+0100
TZNAME:CET
DTSTART:20221030T010000
END:STANDARD
BEGIN:DAYLIGHT
TZOFFSETFROM:+0100
TZOFFSETTO:+0200
TZNAME:CEST
DTSTART:20230326T010000
END:DAYLIGHT
BEGIN:STANDARD
TZOFFSETFROM:+0200
TZOFFSETTO:+0100
TZNAME:CET
DTSTART:20231029T010000
END:STANDARD
BEGIN:DAYLIGHT
TZOFFSETFROM:+0100
TZOFFSETTO:+0200
TZNAME:CEST
DTSTART:20240331T010000
END:DAYLIGHT
BEGIN:STANDARD
TZOFFSETFROM:+0200
TZOFFSETTO:+0100
TZNAME:CET
DTSTART:20241027T010000
END:STANDARD
BEGIN:DAYLIGHT
TZOFFSETFROM:+0100
TZOFFSETTO:+0200
TZNAME:CEST
DTSTART:20250330T010000
END:DAYLIGHT
BEGIN:STANDARD
TZOFFSETFROM:+0200
TZOFFSETTO:+0100
TZNAME:CET
DTSTART:20251026T010000
END:STANDARD
BEGIN:DAYLIGHT
TZOFFSETFROM:+0100
TZOFFSETTO:+0200
TZNAME:CEST
DTSTART:20260329T010000
END:DAYLIGHT
BEGIN:STANDARD
TZOFFSETFROM:+0200
TZOFFSETTO:+0100
TZNAME:CET
DTSTART:20261025T010000
END:STANDARD
END:VTIMEZONE
BEGIN:VEVENT
DTSTART;VALUE=DATE:20251008
DTEND;VALUE=DATE:20251102
DTSTAMP:20260420T204828
CREATED:20251008T121446Z
LAST-MODIFIED:20251008T121446Z
UID:24475-1759881600-1762041599@old.eiscat.se
SUMMARY:EISCAT Peer-Review Programme: Open Call for Applications
DESCRIPTION:EISCAT AB invites applications for observing time on the EISCAT facilities in 2026\, by individual scientists\, research groups\, and consortia throughout the world on equal\, competitive basis. This means that anyone can apply\, independent of whether or not the applicant is from an EISCAT member country. \nThe present call is the first one for 2026. In total\, 200 hours(*) of experiment time are open for international\, peer-reviewed competition\, and are available for the use of any of the current EISCAT facilities. Roughly half of this time is allocated in each call. \nPlease refer for more information and instructions how to apply and the application form download:\nhttps://old.eiscat.se/scientist/schedule/eiscat-peer-reviewed-program/ \nThe deadline for applications is 1 November 2025 at 24:00 UTC. \n*EISCAT AB is presently undergoing organisational changes. The present programme is envisioned to continue without changes but the programme itself or the usage/availability of the awarded hours can be subject to change as a result of hardware availability.
URL:https://old.eiscat.se/event/eiscat-peer-review-programme-open-call-for-applications-3/
CATEGORIES:Peer-Review programme
END:VEVENT
BEGIN:VEVENT
DTSTART;VALUE=DATE:20250414
DTEND;VALUE=DATE:20250502
DTSTAMP:20260420T204828
CREATED:20250414T082650Z
LAST-MODIFIED:20250414T082650Z
UID:24289-1744588800-1746143999@old.eiscat.se
SUMMARY:EISCAT Peer-Review Programme: Open Call for Applications
DESCRIPTION:EISCAT AB invites applications for observing time on the EISCAT facilities in 2025\, by individual scientists\, research groups\, and consortia throughout the world on equal\, competitive basis. This means that anyone can apply\, independent of whether or not the applicant is from an EISCAT associate country. \nThe present call is the second one for 2025. In total\, 200 hours(*) of experiment time are open for international\, peer-reviewed competition\, and are available for the use of any of the current EISCAT facilities. Roughly half of this time is allocated in each call. \nPlease refer for more information and instructions how to apply and the application form download:\nhttps://old.eiscat.se/scientist/schedule/eiscat-peer-reviewed-program/ \nThe deadline for applications is 1 May 2025 at 24:00 UTC. \n*EISCAT AB is presently undergoing organisational changes. The present programme is at the moment envisioned to continue without changes but the programme itself or the usage/availability of the awarded hours can be subject to change as a result of restructuring of the organisation.
URL:https://old.eiscat.se/event/eiscat-peer-review-programme-open-call-for-applications-2/
CATEGORIES:Peer-Review programme
END:VEVENT
BEGIN:VEVENT
DTSTART;VALUE=DATE:20241002
DTEND;VALUE=DATE:20241102
DTSTAMP:20260420T204828
CREATED:20241002T115251Z
LAST-MODIFIED:20241002T115251Z
UID:23939-1727827200-1730505599@old.eiscat.se
SUMMARY:EISCAT Peer-Review Programme: Open Call for Applications
DESCRIPTION:The EISCAT Scientific Association invites applications for observing time on the EISCAT facilities in 2025\, by individual scientists\, research groups\, and consortia throughout the world on equal\, competitive basis. This means that anyone can apply\, independent of whether or not the applicant is from an EISCAT associate country. \nThe present call is the first one for 2025. In total\, 200 hours(*) of experiment time are open for international\, peer-reviewed competition\, and are available for the use of any of the current EISCAT facilities. Roughly half of this time is allocated in each call. \nPlease refer for more information and instructions how to apply to:\nhttps://old.eiscat.se/scientist/schedule/eiscat-peer-reviewed-program/ \nThe deadline for applications is 1 November 2024 at 24:00 UTC. \n*EISCAT Scientific Association is presently undergoing organisational changes. The present programme is at the moment envisioned to continue without changes but the programme itself or the usage/availability of the awarded hours can be subject to change as a result of restructuring of the organisation.
URL:https://old.eiscat.se/event/eiscat-peer-review-programme-open-call-for-applications/
CATEGORIES:Peer-Review programme
END:VEVENT
BEGIN:VEVENT
DTSTART;VALUE=DATE:20231003
DTEND;VALUE=DATE:20231102
DTSTAMP:20260420T204828
CREATED:20231003T155217Z
LAST-MODIFIED:20231031T062619Z
UID:22908-1696291200-1698883199@old.eiscat.se
SUMMARY:EISCAT Peer-Review Programme: Call for Proposals
DESCRIPTION:The EISCAT Scientific Association invites applications for observing time on the EISCAT facilities in 2024\, by individual scientists\, research groups\, and consortia throughout the world on equal\, competitive basis. This means that anyone can apply\, independent of whether or not the applicant is from an EISCAT associate country. \nWhile evaluations are merit based\, in the case of two applications having similar merits in evaluation\, preference will be given either to those applicants who are new to the EISCAT facilities\, in order to enlarge the EISCAT user community and further more open access to the facilities\, or to the applicant showing stronger educational impact in their proposal. \nThe present call is the first one for 2024. In total\, 200 hours of experiment time are open for international\, peer-reviewed competition\, and are available for the use of any of the current EISCAT facilities. Roughly half of this time is allocated in each call. \nPlease refer to the details of the call at \nhttps://old.eiscat.se/news/eiscat-peer-reviewed-program-experiments-3/ \nfor more information. \nThe deadline for proposals is 1 November 2023 at 24:00 UTC.
URL:https://old.eiscat.se/event/eiscat-peer-review-programme-call-for-proposals/
CATEGORIES:Peer-Review programme
END:VEVENT
END:VCALENDAR