






BEGIN:VCALENDAR
VERSION:2.0
PRODID:-//Old EISCAT - ECPv6.15.16//NONSGML v1.0//EN
CALSCALE:GREGORIAN
METHOD:PUBLISH
X-ORIGINAL-URL:https://old.eiscat.se
X-WR-CALDESC:Events for Old EISCAT
REFRESH-INTERVAL;VALUE=DURATION:PT1H
X-Robots-Tag:noindex
X-PUBLISHED-TTL:PT1H
BEGIN:VTIMEZONE
TZID:Europe/Stockholm
BEGIN:DAYLIGHT
TZOFFSETFROM:+0100
TZOFFSETTO:+0200
TZNAME:CEST
DTSTART:20220327T010000
END:DAYLIGHT
BEGIN:STANDARD
TZOFFSETFROM:+0200
TZOFFSETTO:+0100
TZNAME:CET
DTSTART:20221030T010000
END:STANDARD
BEGIN:DAYLIGHT
TZOFFSETFROM:+0100
TZOFFSETTO:+0200
TZNAME:CEST
DTSTART:20230326T010000
END:DAYLIGHT
BEGIN:STANDARD
TZOFFSETFROM:+0200
TZOFFSETTO:+0100
TZNAME:CET
DTSTART:20231029T010000
END:STANDARD
BEGIN:DAYLIGHT
TZOFFSETFROM:+0100
TZOFFSETTO:+0200
TZNAME:CEST
DTSTART:20240331T010000
END:DAYLIGHT
BEGIN:STANDARD
TZOFFSETFROM:+0200
TZOFFSETTO:+0100
TZNAME:CET
DTSTART:20241027T010000
END:STANDARD
BEGIN:DAYLIGHT
TZOFFSETFROM:+0100
TZOFFSETTO:+0200
TZNAME:CEST
DTSTART:20250330T010000
END:DAYLIGHT
BEGIN:STANDARD
TZOFFSETFROM:+0200
TZOFFSETTO:+0100
TZNAME:CET
DTSTART:20251026T010000
END:STANDARD
END:VTIMEZONE
BEGIN:VEVENT
DTSTART;TZID=Europe/Stockholm:20240530T150000
DTEND;TZID=Europe/Stockholm:20240530T190000
DTSTAMP:20260420T193157
CREATED:20240428T100234Z
LAST-MODIFIED:20240522T153029Z
UID:23788-1717081200-1717095600@old.eiscat.se
SUMMARY:EISCAT 3D Open House Finland
DESCRIPTION:EISCAT invites you to our open house\nOur new radar system EISCAT 3D is starting to get ready. It is not yet operable\, but the exterior is looking the way it should.  Therefor we invite the public\,  all of you who lives in the area or who are visiting\, to come and have a look at our facility. \nFirst up is EISCAT 3D in Karesuvanto\, Finland\, the 30th of May 2024\, at 15.00-19.00 local time. \nOur staff will be present to answer your questions\, you can walk around the premises and take a look at our world-leading next generation research radar facility. We will have coffee and hot dogs for you. \nIn cooperation with the village association in Karesuvanto\, we will serve you coffee\, cookies and hotdogs. \nYou find us a few kilometers outside Karesuvanto.\nCoordinates: 68°28’48.9″N 22°31’24.8″E \nWe look forward to meeting you. Welcome! \n \n 
URL:https://old.eiscat.se/event/eiscat-3d-open-house-finland/
LOCATION:EISCAT3D Karesuvanto\, Syväjärventie 430\, Karesuvanto\, 99470\, Finland
CATEGORIES:Open house,Public outreach
END:VEVENT
BEGIN:VEVENT
DTSTART;VALUE=DATE:20231016
DTEND;VALUE=DATE:20231017
DTSTAMP:20260420T193157
CREATED:20230928T125846Z
LAST-MODIFIED:20230928T152300Z
UID:22881-1697414400-1697500799@old.eiscat.se
SUMMARY:EISCAT appear in the Swedish TV-show Svenska Truckers
DESCRIPTION:TV appearance\nOn the 16 October the EISCAT 3D site in Kaiseniemi will appear in the Swedish TV-show Svenska Truckers.  The subject for the episode is the installation of one of the lightning and calibration masts surrounding the antenna. \nSave the date!
URL:https://old.eiscat.se/event/eiscat-appear-in-the-swedish-tv-show-svenska-truckers/
CATEGORIES:Public outreach
END:VEVENT
END:VCALENDAR