






BEGIN:VCALENDAR
VERSION:2.0
PRODID:-//Old EISCAT - ECPv6.15.16//NONSGML v1.0//EN
CALSCALE:GREGORIAN
METHOD:PUBLISH
X-WR-CALNAME:Old EISCAT
X-ORIGINAL-URL:https://old.eiscat.se
X-WR-CALDESC:Events for Old EISCAT
REFRESH-INTERVAL;VALUE=DURATION:PT1H
X-Robots-Tag:noindex
X-PUBLISHED-TTL:PT1H
BEGIN:VTIMEZONE
TZID:Europe/Stockholm
BEGIN:DAYLIGHT
TZOFFSETFROM:+0100
TZOFFSETTO:+0200
TZNAME:CEST
DTSTART:20220327T010000
END:DAYLIGHT
BEGIN:STANDARD
TZOFFSETFROM:+0200
TZOFFSETTO:+0100
TZNAME:CET
DTSTART:20221030T010000
END:STANDARD
BEGIN:DAYLIGHT
TZOFFSETFROM:+0100
TZOFFSETTO:+0200
TZNAME:CEST
DTSTART:20230326T010000
END:DAYLIGHT
BEGIN:STANDARD
TZOFFSETFROM:+0200
TZOFFSETTO:+0100
TZNAME:CET
DTSTART:20231029T010000
END:STANDARD
BEGIN:DAYLIGHT
TZOFFSETFROM:+0100
TZOFFSETTO:+0200
TZNAME:CEST
DTSTART:20240331T010000
END:DAYLIGHT
BEGIN:STANDARD
TZOFFSETFROM:+0200
TZOFFSETTO:+0100
TZNAME:CET
DTSTART:20241027T010000
END:STANDARD
BEGIN:DAYLIGHT
TZOFFSETFROM:+0100
TZOFFSETTO:+0200
TZNAME:CEST
DTSTART:20250330T010000
END:DAYLIGHT
BEGIN:STANDARD
TZOFFSETFROM:+0200
TZOFFSETTO:+0100
TZNAME:CET
DTSTART:20251026T010000
END:STANDARD
END:VTIMEZONE
BEGIN:VTIMEZONE
TZID:Europe/Paris
BEGIN:DAYLIGHT
TZOFFSETFROM:+0100
TZOFFSETTO:+0200
TZNAME:CEST
DTSTART:20180325T010000
END:DAYLIGHT
BEGIN:STANDARD
TZOFFSETFROM:+0200
TZOFFSETTO:+0100
TZNAME:CET
DTSTART:20181028T010000
END:STANDARD
BEGIN:DAYLIGHT
TZOFFSETFROM:+0100
TZOFFSETTO:+0200
TZNAME:CEST
DTSTART:20190331T010000
END:DAYLIGHT
BEGIN:STANDARD
TZOFFSETFROM:+0200
TZOFFSETTO:+0100
TZNAME:CET
DTSTART:20191027T010000
END:STANDARD
BEGIN:DAYLIGHT
TZOFFSETFROM:+0100
TZOFFSETTO:+0200
TZNAME:CEST
DTSTART:20200329T010000
END:DAYLIGHT
BEGIN:STANDARD
TZOFFSETFROM:+0200
TZOFFSETTO:+0100
TZNAME:CET
DTSTART:20201025T010000
END:STANDARD
END:VTIMEZONE
BEGIN:VEVENT
DTSTART;VALUE=DATE:20240812
DTEND;VALUE=DATE:20240817
DTSTAMP:20260420T204819
CREATED:20240502T141544Z
LAST-MODIFIED:20240502T141544Z
UID:23796-1723420800-1723852799@old.eiscat.se
SUMMARY:EISCAT Radar School 2024
DESCRIPTION:EISCAT Radar School\nThe International EISCAT Radar School will be held August 12–16\, 2024\, at the Kilpisjärvi Biological Station in Finland. The school in 2024 is organized by UiT The Arctic University of Norway and the international EISCAT Scientific Association. \nThe EISCAT school will teach about essential aspects of the EISCAT radar systems. An introduction to ionospheric physics\, incoherent scatter radar measurements\, and radio wave interactions with plasma will be provided. The hardware and software of EISCAT systems will be discussed\, with some emphasis on EISCAT 3D. Tips on analysing and working with the data will be given and the participants will run their own radar experiment in a hands-on exercise. \nAn excursion to the EISCAT 3D radar site is planned for the school. \nThe lecturers at the school consist of members of the EISCAT user community and EISCAT staff. The in-person school will provide opportunities for the attendees to network with others in the incoherent scatter and ionospheric science community\, while learning about the EISCAT radar systems. \nWhen and where\nAugust 12–16\, 2024\nKilpisjärvi Biological Station\, Kilpisjärvi\, Finland \nRegistration\nThere are limited spots available\, so it is recommended to register early. No registration deadline is currently assigned.\nWebsite: https://uit.no/tavla/artikkel/842864/eiscat_radar_school_2024 \nAccommodations and travel\nRooms are reserved in the Kilpisjärvi Biological Research Station for the school from August 11–17\, 2024. Dual occupancy rooms are reserved for students at a cost of approximately 600 euros for each student (Sunday-Saturday\, Aug. 11-17)\, with meals included. There is no registration fee. \nTravel to the Kilpisjärvi research station\, Finland\, will be discussed with each registrant for the school. Tromsø\, Norway\, has a public bus route that leaves Monday morning (August 12) and arrives at the station before lunch and the start of the school. The public bus route leaves Kilpisjärvi in the early evening on August 16 to return to Tromsø. \nBest regards\,\nThe Organizing Committee \nDevin Huyghebaert (UiT\, Norway)\nThomas Ulich (EISCAT)\nIngrid Mann (UiT\, Norway)\nYasunobu Ogawa (NIPR\, Japan)
URL:https://old.eiscat.se/event/eiscat-radar-school-2024/
CATEGORIES:Radar school
END:VEVENT
BEGIN:VEVENT
DTSTART;VALUE=DATE:20230814
DTEND;VALUE=DATE:20230820
DTSTAMP:20260420T204819
CREATED:20230419T051920Z
LAST-MODIFIED:20230419T051946Z
UID:22688-1691971200-1692489599@old.eiscat.se
SUMMARY:International EISCAT Radar School
DESCRIPTION:Kilpisjärvi\, Finland and Skibotn\, Norway \n\nThe International EISCAT Radar School is a training course for new users of incoherent scatter radars at any stage of their research career. Participants should have a background in space physics\, ionospheric pysics\, plasma physics\, or radar (radio science). The school will cover all essential aspects of the current incoherent scatter radar systems\, including the science programme. An overview of the existing hardware and software was provided and future plans will be discussed\, with an emphasis on phased array radars in preparation of EISCAT_3D. \nThe course will have a very strong emphasis on practicals\, i.e. work in groups of participants on real data. There will be dedicated radar experiments for every group\, and the groups will analyse their data and present their results under the guidance of an experienced team of instructors. \nThe radar school is organised by the Sodankylä Geophysical Observatory\, the Space Physics and Astronomy Research Group (both University of Oulu)\, the EISCAT Scientific Association\, and the Arctic University of Norway. \nThe radar school is part of the University of Arctic Thematic Network Arctic Space Hub. \nMore information about the radar school: https://www.sgo.fi/Events/RS2023/ \nDeadlines\nRegistration deadline: 23th April 2023 (apply here) \nRegistration: https://www.sgo.fi/Events/RS2023/reg.php \nLocal Organising Committee\nThomas Ulich (SGO\, U Oulu\, chair)\, et al TBD \nOutreach\nFor more information on EISCAT\, EISCAT_3D and regular updates\, please refer our outreach channels: \n\nSGO Blog\nSGO on Facebook\nSGO on Twitter\nEISCAT Scientific Association\nEISCAT_3D\nEISCAT_3D project page
URL:https://old.eiscat.se/event/international-eiscat-radar-school/
CATEGORIES:Radar school
END:VEVENT
BEGIN:VEVENT
DTSTART;VALUE=DATE:20190812
DTEND;VALUE=DATE:20190817
DTSTAMP:20260420T204819
CREATED:20181121T142412Z
LAST-MODIFIED:20181211T092824Z
UID:13940-1565568000-1565999999@old.eiscat.se
SUMMARY:The EISCAT Radar School is 12-16 August 2019 at Pikku-Syöte\, Finland.
DESCRIPTION:The International EISCAT Radar School is a training course for new users of incoherent scatter radars at any stage of their research career. Participants should have a background in space physics\, ionospheric pysics\, plasma physics\, or radar (radio science). The school will cover all essential aspects of the current incoherent scatter radar systems\, including the science programme. An overview of the existing hardware and software was provided and future plans will be discussed\, with an emphasis on phased array radars in preparation of EISCAT_3D. \nThe course will have a very strong emphasis on practicals\, i.e. work in groups of participants on real data. There will be dedicated radar experiments for every group\, and the groups will analyse their data and present their results under the guidance of an experienced team of instructors. \nThe school will be held at the nature resort Pikku-Syöte\, about an hour and a half east of the city of Oulu during the week immediately preceeding the 19th International EISCAT Symposium\, which will be held jointly with the 46th Annual European Meeting on Atmospheric Studies by Optical Methods (46AM). \nAll three events are organised by the University of Oulu in co-operation between the Ionospheric Physics Group and Sodankylä Geophysical Observatory. \nDeadline and registration
URL:https://old.eiscat.se/event/the-eiscat-radar-school-is-12-16-august-2019-at-pikku-syote-finland/
LOCATION:Pikku-Syöte\, Finland\, Pikku-Syöte\, Finland
CATEGORIES:Radar school
END:VEVENT
END:VCALENDAR