






BEGIN:VCALENDAR
VERSION:2.0
PRODID:-//Old EISCAT - ECPv6.15.16//NONSGML v1.0//EN
CALSCALE:GREGORIAN
METHOD:PUBLISH
X-WR-CALNAME:Old EISCAT
X-ORIGINAL-URL:https://old.eiscat.se
X-WR-CALDESC:Events for Old EISCAT
REFRESH-INTERVAL;VALUE=DURATION:PT1H
X-Robots-Tag:noindex
X-PUBLISHED-TTL:PT1H
BEGIN:VTIMEZONE
TZID:Europe/Stockholm
BEGIN:DAYLIGHT
TZOFFSETFROM:+0100
TZOFFSETTO:+0200
TZNAME:CEST
DTSTART:20210328T010000
END:DAYLIGHT
BEGIN:STANDARD
TZOFFSETFROM:+0200
TZOFFSETTO:+0100
TZNAME:CET
DTSTART:20211031T010000
END:STANDARD
BEGIN:DAYLIGHT
TZOFFSETFROM:+0100
TZOFFSETTO:+0200
TZNAME:CEST
DTSTART:20220327T010000
END:DAYLIGHT
BEGIN:STANDARD
TZOFFSETFROM:+0200
TZOFFSETTO:+0100
TZNAME:CET
DTSTART:20221030T010000
END:STANDARD
BEGIN:DAYLIGHT
TZOFFSETFROM:+0100
TZOFFSETTO:+0200
TZNAME:CEST
DTSTART:20230326T010000
END:DAYLIGHT
BEGIN:STANDARD
TZOFFSETFROM:+0200
TZOFFSETTO:+0100
TZNAME:CET
DTSTART:20231029T010000
END:STANDARD
BEGIN:DAYLIGHT
TZOFFSETFROM:+0100
TZOFFSETTO:+0200
TZNAME:CEST
DTSTART:20240331T010000
END:DAYLIGHT
BEGIN:STANDARD
TZOFFSETFROM:+0200
TZOFFSETTO:+0100
TZNAME:CET
DTSTART:20241027T010000
END:STANDARD
BEGIN:DAYLIGHT
TZOFFSETFROM:+0100
TZOFFSETTO:+0200
TZNAME:CEST
DTSTART:20250330T010000
END:DAYLIGHT
BEGIN:STANDARD
TZOFFSETFROM:+0200
TZOFFSETTO:+0100
TZNAME:CET
DTSTART:20251026T010000
END:STANDARD
BEGIN:DAYLIGHT
TZOFFSETFROM:+0100
TZOFFSETTO:+0200
TZNAME:CEST
DTSTART:20260329T010000
END:DAYLIGHT
BEGIN:STANDARD
TZOFFSETFROM:+0200
TZOFFSETTO:+0100
TZNAME:CET
DTSTART:20261025T010000
END:STANDARD
END:VTIMEZONE
BEGIN:VTIMEZONE
TZID:Europe/Paris
BEGIN:DAYLIGHT
TZOFFSETFROM:+0100
TZOFFSETTO:+0200
TZNAME:CEST
DTSTART:20180325T010000
END:DAYLIGHT
BEGIN:STANDARD
TZOFFSETFROM:+0200
TZOFFSETTO:+0100
TZNAME:CET
DTSTART:20181028T010000
END:STANDARD
BEGIN:DAYLIGHT
TZOFFSETFROM:+0100
TZOFFSETTO:+0200
TZNAME:CEST
DTSTART:20190331T010000
END:DAYLIGHT
BEGIN:STANDARD
TZOFFSETFROM:+0200
TZOFFSETTO:+0100
TZNAME:CET
DTSTART:20191027T010000
END:STANDARD
BEGIN:DAYLIGHT
TZOFFSETFROM:+0100
TZOFFSETTO:+0200
TZNAME:CEST
DTSTART:20200329T010000
END:DAYLIGHT
BEGIN:STANDARD
TZOFFSETFROM:+0200
TZOFFSETTO:+0100
TZNAME:CET
DTSTART:20201025T010000
END:STANDARD
END:VTIMEZONE
BEGIN:VEVENT
DTSTART;VALUE=DATE:20250818
DTEND;VALUE=DATE:20250823
DTSTAMP:20260420T192345
CREATED:20250221T084835Z
LAST-MODIFIED:20250519T155841Z
UID:24209-1755475200-1755907199@old.eiscat.se
SUMMARY:22nd International EISCAT Symposium
DESCRIPTION:22nd International EISCAT Symposium 2025 & 49th Annual European Meeting on Atmospheric Studies by Optical Methods\nThe 22nd International EISCAT Symposium will occur the 18th – 22nd August 2025 in Kiruna\, Sweden. The symposium will be joint twith the 49th Annual European Meeting on Atmoshperic Studies by Optical Methods. \nThe meeting will be hosted jointly by EISCAT AB and the Swedish Institute for Space Physics (IRF) at the Kiruna Space Campus. \nMore information will be made available in the very near future\, on this page: https://old.eiscat.se/eiscat-symposium-2025/
URL:https://old.eiscat.se/event/22nd-international-eiscat-symposium/
LOCATION:Rymdcampus\, Kiruna\, Sweden
CATEGORIES:Meeting,Symposium
ORGANIZER;CN="EISCAT AB":MAILTO:contact.us@old.eiscat.se
END:VEVENT
BEGIN:VEVENT
DTSTART;VALUE=DATE:20240729
DTEND;VALUE=DATE:20240803
DTSTAMP:20260420T192345
CREATED:20230928T103118Z
LAST-MODIFIED:20240304T100624Z
UID:22876-1722211200-1722643199@old.eiscat.se
SUMMARY:EISCAT Symposium 2024
DESCRIPTION:EISCAT Symposium July 29 – August 2 2024\nThe EISCAT Symposium 2024 will occur the week of July 29 to August 2 in Tromsø\, Norway. The 48th Annual European Meeting on Atmospheric Studies by Optical Methods will be held simultaneously.\n \nVenue:\nUiT The Arctic University of Norway campus\, Tromsø\, Norway\n \nDates:\nJuly 29 – August 2\, 2024\n\nAbstract Deadline:\nMarch 30\, 2024\n \nPreliminary Session List:– EISCAT 3D\, and Complementary Instrumentation\n– Magnetosphere-Ionosphere-Thermosphere Coupling\n– Novel Radar and Signal Processing Techniques\n– Imager/Aurora Studies\n– Satellite\, Rocket\, and Multi-Instrument Studies\n– D-region and Mesospheric Phenomena\n– Meteors and Space Debris\n– Machine Learning in Space and Atmospheric Physics\n– Modelling of Auroral/Magnetospheric Processes\n– Active Ionospheric Experiments (Heating\, etc.)\n– Space Weather\n– Effects of Satellites on Incoherent Scatter Radar Measurement\n\nOptical Meeting Session List:\n– Novel Optical Instrumentation and Techniques\n– Optical Calibration Techniques\n– Aurora\n– Airglow\n– Atmospheric Composition\, Aerosols\, and Clouds (Polar Stratospheric\, Noctilucent\, etc.)\n– Meteors\, Sprites\, and other Transient PhenomenaPlease note that some sessions may be combined depending on abstract submission numbers.\n \nAccommodations:\nDue to the demand for hotels in Tromsø during the summer months\, it is recommended to book your hotel/accommodations as soon as possible.\n \nMore details about registration and abstract submission will be released in the future.\n \n2024 is an important year for the incoherent scatter community as it will be the first year of EISCAT 3D operations. We hope to see initial results from the system presented at the Symposium!\n \nThe registration fee is planned to include coffee breaks\, lunches\, a visit to the EISCAT 3D Skibotn site\, conference style presentations\, and a banquet dinner.\n \nWe look forward to seeing you in Tromsø for the Symposium!\n \nFor any inquiries or requests for more information\, please contact: EISCAT_Norway@uit.no\nOr visit: https://uit.no/tavla/artikkel/830164/eiscat_symposium_2024?p\nScience Organizing Committe\nThomas Ulich (EISCAT)\, Noora Partamies (UNIS)\, Mykola Ivchenko (KTH)\, Ingemar Häggström (EISCAT)\, Anita Aikio (Oulu)\, Hilde Nesse (UiB)\, Lisa Baddeley (UNIS)\, Björn Gustavsson (UiT) \nLocal Organizing Committee at UiT\nBjörn Gustavsson\, Devin Huyghebaert\, Inger Solheim\, Ingrid Mann
URL:https://old.eiscat.se/event/eiscat-symposium-2024/
LOCATION:Universitetet i Tromsø\, Postboks 6050 Langnes\, Tromsø\, 9037\, Norway
CATEGORIES:Meeting,Symposium
ORGANIZER;CN="Universitetet i Torms%C3%B8":MAILTO:EISCAT_Norway@uit.no
END:VEVENT
BEGIN:VEVENT
DTSTART;VALUE=DATE:20220815
DTEND;VALUE=DATE:20220820
DTSTAMP:20260420T192345
CREATED:20211117T092025Z
LAST-MODIFIED:20220525T093849Z
UID:21553-1660521600-1660953599@old.eiscat.se
SUMMARY:20th EISCAT Symposium
DESCRIPTION:20th International EISCAT Symposium 2022 &\n15th Internationl Workshop on Layered Phenomena in the Mesopause Region\nThe International EISCAT Symposium\, formerly the EISCAT workshop\, has\, over the years\, become a major conference on incoherent scatter radar as well as on atmospheric and ionospheric science explored by this measurement method. The next 20th symposium will take place jointly with the 15th International Workshop on Layered Phenomena in the Mesopause Region (LPMR). \nThe LPMR Workshop is traditionally held biannually to advance our understanding of ice and dust layers and related phenomena in the Earth’s mesosphere and lower thermosphere. A central aim of this combined meeting is to bring the EISCAT and LPMR communities together to explore joint scientific interests\, observational techniques and model approaches. The meeting will comprise both joint sessions and separate EISCAT and LPMR sessions. \nThe meeting will take place on August 15-19\, 2022\, at the Sundbyholm castle near the town of Eskilstuna in central Sweden. More information: https://www.space.irfu.se/workshops/LPMR-EISCAT/ \nPlease send any comments and suggestions that you might already have to Stephan Buchert\, IRF\, or Jörg Gumbel\, Department of Meteorology\, Stockholm University. \n 
URL:https://old.eiscat.se/event/eiscat-symposium-and-workshop-on-layered-phenomena-in-the-mesopause-region/
CATEGORIES:Symposium
END:VEVENT
BEGIN:VEVENT
DTSTART;VALUE=DATE:20190819
DTEND;VALUE=DATE:20190823
DTSTAMP:20260420T192345
CREATED:20181121T142648Z
LAST-MODIFIED:20190603T095441Z
UID:13944-1566172800-1566518399@old.eiscat.se
SUMMARY:The EISCAT Symposium is 19-22 August 2019 in Oulu\, Finland.
DESCRIPTION:  \nEISCAT Symposium\nThe International EISCAT Symposium has\, over the years\, become the major conference on incoherent scatter radar. The next symposium will take place in at the University of Oulu in the City of Oulu\, Finland\, from 19th to 23rd August 2019. \nThis year\, the symposium will be held jointly with the 46th Annual European Meeting on Atmospheric Studies by Optical Methods (46AM\, also known as “The Optical Meeting”). \nSubmissions\nSubmissions related to: Novel Instruments and Methods\, Aurora\, Magnetosphere-Ionosphere-Thermosphere Studies\, Space Weather\, Mesosphere\, D-region\, Airglow\, Noctilucent Clouds\, Meteors\, Active Experiments and Plasma Physics\, Aerosols and Clouds\, Transient Luminous Events\, and Atmospheric Electricity\, are encouraged. \nDeadline for registration and abstract submission has been extended to 12th June 2019. \nScientific Programme\nThe conference will have five joint sessions: \n\nNovel Instruments and Methods: EISCAT_3D and Optical Instruments\, incl. infrastructures\, instruments and missions (A Aikio\, I McCrea)\nAurora\, Magnetosphere-Ionosphere-Thermosphere Studies and Space Weather (Y Ogawa\, D Whiter)\nMesosphere\, D-region\, Airglow\, Noctilucent Clouds and Meteors (N Partamies\, A Kavanagh)\nActive Experiments and Plasma Physics (B Gustavsson\, M Rietveld)\nAerosols and Clouds\, Transient Luminous Events\, and Atmospheric Electricity (O van der Velde)\n\nConfirmed Invited Speakers\nChristoph Franzen\, Craig Heinselman\, Thomas Leyser\, Yoshizumi Miyoshi\, Jøran Moen\, Norah Kaggwa Kwagala\, Ralph Latteck\, Fred Sigernes\, Roger Varney\, Pekka Verronen\, Juha Vierinen\, Joanne Wu\, Theresa Rexer \nLinks\nMore information and programe: http://www.sgo.fi/Events/EISCAT46AM/prog.php \nConference web page: http://www.sgo.fi/Events/EISCAT46AM/index.php \nRegistration and abstracts: http://www.sgo.fi/Events/EISCAT46AM/reg.php
URL:https://old.eiscat.se/event/the-eiscat-symposium-is-19-22-august-2019-in-oulu-finland/
LOCATION:Oulu\, Finland\, Oulu\, Finland
CATEGORIES:Symposium
END:VEVENT
END:VCALENDAR