






BEGIN:VCALENDAR
VERSION:2.0
PRODID:-//Old EISCAT - ECPv6.15.16//NONSGML v1.0//EN
CALSCALE:GREGORIAN
METHOD:PUBLISH
X-WR-CALNAME:Old EISCAT
X-ORIGINAL-URL:https://old.eiscat.se
X-WR-CALDESC:Events for Old EISCAT
REFRESH-INTERVAL;VALUE=DURATION:PT1H
X-Robots-Tag:noindex
X-PUBLISHED-TTL:PT1H
BEGIN:VTIMEZONE
TZID:Europe/Paris
BEGIN:DAYLIGHT
TZOFFSETFROM:+0100
TZOFFSETTO:+0200
TZNAME:CEST
DTSTART:20180325T010000
END:DAYLIGHT
BEGIN:STANDARD
TZOFFSETFROM:+0200
TZOFFSETTO:+0100
TZNAME:CET
DTSTART:20181028T010000
END:STANDARD
BEGIN:DAYLIGHT
TZOFFSETFROM:+0100
TZOFFSETTO:+0200
TZNAME:CEST
DTSTART:20190331T010000
END:DAYLIGHT
BEGIN:STANDARD
TZOFFSETFROM:+0200
TZOFFSETTO:+0100
TZNAME:CET
DTSTART:20191027T010000
END:STANDARD
BEGIN:DAYLIGHT
TZOFFSETFROM:+0100
TZOFFSETTO:+0200
TZNAME:CEST
DTSTART:20200329T010000
END:DAYLIGHT
BEGIN:STANDARD
TZOFFSETFROM:+0200
TZOFFSETTO:+0100
TZNAME:CET
DTSTART:20201025T010000
END:STANDARD
BEGIN:DAYLIGHT
TZOFFSETFROM:+0100
TZOFFSETTO:+0200
TZNAME:CEST
DTSTART:20210328T010000
END:DAYLIGHT
BEGIN:STANDARD
TZOFFSETFROM:+0200
TZOFFSETTO:+0100
TZNAME:CET
DTSTART:20211031T010000
END:STANDARD
END:VTIMEZONE
BEGIN:VEVENT
DTSTART;VALUE=DATE:20200324
DTEND;VALUE=DATE:20200326
DTSTAMP:20260421T002348
CREATED:20200128T111340Z
LAST-MODIFIED:20200312T151514Z
UID:16991-1585008000-1585180799@old.eiscat.se
SUMMARY:CANCELLED: EISCAT SAC Meeting in Longyearbyen\, Svalbard\, 24-25 March\, 2020
DESCRIPTION:
URL:https://old.eiscat.se/event/eiscat-sac-meeting-in-longyearbyen-svalbard-24-25-march-2020/
LOCATION:Longyearbyen\, Svalbard and Jan Mayen Islands
END:VEVENT
BEGIN:VEVENT
DTSTART;VALUE=DATE:20191127
DTEND;VALUE=DATE:20191129
DTSTAMP:20260421T002348
CREATED:20190923T140352Z
LAST-MODIFIED:20190924T125628Z
UID:16253-1574812800-1574985599@old.eiscat.se
SUMMARY:93rd EISCAT Council meeting\, Oslo
DESCRIPTION:The 93rd meeting of Council will be held at Scandic Holmenkollen Park in Oslo\, Norway\, 27-28 November 2019.
URL:https://old.eiscat.se/event/93rd-eiscat-council-meeting-oslo-27-28-november/
CATEGORIES:Council Meeting
END:VEVENT
BEGIN:VEVENT
DTSTART;VALUE=DATE:20191104
DTEND;VALUE=DATE:20191108
DTSTAMP:20260421T002348
CREATED:20190705T103841Z
LAST-MODIFIED:20191108T060624Z
UID:16018-1572825600-1573171199@old.eiscat.se
SUMMARY:EISCAT Staff Annual Review Meeting
DESCRIPTION:We have now identified a possible week for the 2019 Annual Review Meeting. This time we aim for Sweden. Meeting will either start Monday afternoon and end Thursday morning\, (4-7 November 2019).
URL:https://old.eiscat.se/event/arm2019/
CATEGORIES:Meeting
END:VEVENT
BEGIN:VEVENT
DTSTART;VALUE=DATE:20191022
DTEND;VALUE=DATE:20191024
DTSTAMP:20260421T002348
CREATED:20190923T141644Z
LAST-MODIFIED:20190924T045000Z
UID:16259-1571702400-1571875199@old.eiscat.se
SUMMARY:E3D 3rd Technical Review Meeting
DESCRIPTION:The 3rd Technical Review Meeting will be held 22-23 October at a hotel near Skibotn\, Norway. The review meeting will cover the project status as of now\, including a visit at the E3D site in Skibotn. \nIf you are interested in participating in the review and have not got an invitation\, please contact the E3D project leader\, Johan Svensson \n 
URL:https://old.eiscat.se/event/e3d-3rd-technical-review-meeting-22-23-october-2019/
END:VEVENT
BEGIN:VEVENT
DTSTART;VALUE=DATE:20191008
DTEND;VALUE=DATE:20191010
DTSTAMP:20260421T002348
CREATED:20190923T141106Z
LAST-MODIFIED:20190924T045042Z
UID:16257-1570492800-1570665599@old.eiscat.se
SUMMARY:72nd meeting of the EISCAT Administrative and Finance Committee\, Tromsø
DESCRIPTION:The EISCAT Administrative and Finance Committee (AFC) will meet 8-9 October 2019 at UiT\, the Arctic University of Norway
URL:https://old.eiscat.se/event/72nd-meeting-of-the-eiscat-administrative-and-finance-committee-tromso-8-9-october-2019/
CATEGORIES:Meeting
END:VEVENT
BEGIN:VEVENT
DTSTART;VALUE=DATE:20190823
DTEND;VALUE=DATE:20190825
DTSTAMP:20260421T002348
CREATED:20181121T142735Z
LAST-MODIFIED:20181121T143548Z
UID:13946-1566518400-1566691199@old.eiscat.se
SUMMARY:The autumn EISCAT SAC meeting 23-24 August 2019 in Oulu\, Finland
DESCRIPTION:
URL:https://old.eiscat.se/event/the-autumn-eiscat-sac-meeting-is-23-24-august-2019-in-oulu-finland/
LOCATION:Oulu\, Finland\, Oulu\, Finland
CATEGORIES:Meeting,SAC Meeting
END:VEVENT
BEGIN:VEVENT
DTSTART;VALUE=DATE:20190819
DTEND;VALUE=DATE:20190823
DTSTAMP:20260421T002348
CREATED:20181121T142648Z
LAST-MODIFIED:20190603T095441Z
UID:13944-1566172800-1566518399@old.eiscat.se
SUMMARY:The EISCAT Symposium is 19-22 August 2019 in Oulu\, Finland.
DESCRIPTION:  \nEISCAT Symposium\nThe International EISCAT Symposium has\, over the years\, become the major conference on incoherent scatter radar. The next symposium will take place in at the University of Oulu in the City of Oulu\, Finland\, from 19th to 23rd August 2019. \nThis year\, the symposium will be held jointly with the 46th Annual European Meeting on Atmospheric Studies by Optical Methods (46AM\, also known as “The Optical Meeting”). \nSubmissions\nSubmissions related to: Novel Instruments and Methods\, Aurora\, Magnetosphere-Ionosphere-Thermosphere Studies\, Space Weather\, Mesosphere\, D-region\, Airglow\, Noctilucent Clouds\, Meteors\, Active Experiments and Plasma Physics\, Aerosols and Clouds\, Transient Luminous Events\, and Atmospheric Electricity\, are encouraged. \nDeadline for registration and abstract submission has been extended to 12th June 2019. \nScientific Programme\nThe conference will have five joint sessions: \n\nNovel Instruments and Methods: EISCAT_3D and Optical Instruments\, incl. infrastructures\, instruments and missions (A Aikio\, I McCrea)\nAurora\, Magnetosphere-Ionosphere-Thermosphere Studies and Space Weather (Y Ogawa\, D Whiter)\nMesosphere\, D-region\, Airglow\, Noctilucent Clouds and Meteors (N Partamies\, A Kavanagh)\nActive Experiments and Plasma Physics (B Gustavsson\, M Rietveld)\nAerosols and Clouds\, Transient Luminous Events\, and Atmospheric Electricity (O van der Velde)\n\nConfirmed Invited Speakers\nChristoph Franzen\, Craig Heinselman\, Thomas Leyser\, Yoshizumi Miyoshi\, Jøran Moen\, Norah Kaggwa Kwagala\, Ralph Latteck\, Fred Sigernes\, Roger Varney\, Pekka Verronen\, Juha Vierinen\, Joanne Wu\, Theresa Rexer \nLinks\nMore information and programe: http://www.sgo.fi/Events/EISCAT46AM/prog.php \nConference web page: http://www.sgo.fi/Events/EISCAT46AM/index.php \nRegistration and abstracts: http://www.sgo.fi/Events/EISCAT46AM/reg.php
URL:https://old.eiscat.se/event/the-eiscat-symposium-is-19-22-august-2019-in-oulu-finland/
LOCATION:Oulu\, Finland\, Oulu\, Finland
CATEGORIES:Symposium
END:VEVENT
BEGIN:VEVENT
DTSTART;VALUE=DATE:20190812
DTEND;VALUE=DATE:20190817
DTSTAMP:20260421T002348
CREATED:20181121T142412Z
LAST-MODIFIED:20181211T092824Z
UID:13940-1565568000-1565999999@old.eiscat.se
SUMMARY:The EISCAT Radar School is 12-16 August 2019 at Pikku-Syöte\, Finland.
DESCRIPTION:The International EISCAT Radar School is a training course for new users of incoherent scatter radars at any stage of their research career. Participants should have a background in space physics\, ionospheric pysics\, plasma physics\, or radar (radio science). The school will cover all essential aspects of the current incoherent scatter radar systems\, including the science programme. An overview of the existing hardware and software was provided and future plans will be discussed\, with an emphasis on phased array radars in preparation of EISCAT_3D. \nThe course will have a very strong emphasis on practicals\, i.e. work in groups of participants on real data. There will be dedicated radar experiments for every group\, and the groups will analyse their data and present their results under the guidance of an experienced team of instructors. \nThe school will be held at the nature resort Pikku-Syöte\, about an hour and a half east of the city of Oulu during the week immediately preceeding the 19th International EISCAT Symposium\, which will be held jointly with the 46th Annual European Meeting on Atmospheric Studies by Optical Methods (46AM). \nAll three events are organised by the University of Oulu in co-operation between the Ionospheric Physics Group and Sodankylä Geophysical Observatory. \nDeadline and registration
URL:https://old.eiscat.se/event/the-eiscat-radar-school-is-12-16-august-2019-at-pikku-syote-finland/
LOCATION:Pikku-Syöte\, Finland\, Pikku-Syöte\, Finland
CATEGORIES:Radar school
END:VEVENT
BEGIN:VEVENT
DTSTART;VALUE=DATE:20190611
DTEND;VALUE=DATE:20190613
DTSTAMP:20260421T002348
CREATED:20181121T142246Z
LAST-MODIFIED:20181121T143618Z
UID:13937-1560211200-1560383999@old.eiscat.se
SUMMARY:The EISCAT Council meeting is 11-12 June 2019 in Tokyo\, Japan
DESCRIPTION:
URL:https://old.eiscat.se/event/the-eiscat-council-meeting-is-11-12-june-2019-in-tokyo-japan/
LOCATION:Tokyo\, Japan\, Tokyo\, Japan
CATEGORIES:Council Meeting,Meeting
END:VEVENT
BEGIN:VEVENT
DTSTART;TZID=Europe/Paris:20190521T130000
DTEND;TZID=Europe/Paris:20190522T170000
DTSTAMP:20260421T002348
CREATED:20190326T084826Z
LAST-MODIFIED:20190404T103820Z
UID:15314-1558443600-1558544400@old.eiscat.se
SUMMARY:10th EISCAT_3D User's meeting in Uppsala\, Sweden: 21-22 may 2019
DESCRIPTION:The EISCAT_3D (E3D) User’s meeting provides a forum for interested scientists who may or may not be directly involved in the design and construction of the E3D project\, and for persons working more with its administrative\, logistic and technical aspects. \nProgramme\nThis years special topic is tentatively “Planning and preparations for the first scatter signals\, standard modes of operation\, Common Programmes\, and software packages for EISCAT_3D.” \nContributions about the future of the Heating facility and the ESR are encouraged. \nStart: Tuesday\, May 21 at 13 pm (preliminary) with core meeting. \nPreparatory meetings\, splinters\, etc. upon request. \nPreliminary programme\nMay 21\, Tuesday\, 13.00-17.00:\nSpecial Topic as well as general EISCAT and E3D Science: New results and future plans.\nMay 22\, Wednesday\, 9.00-17.00:\nFuture of the Heating facility and the ESR\, general EISCAT and E3D Science: New results and future plans. \nFor suggestions about the meeting programme\, contact the programme committee. \nProgramme committee\nAnita Aikio \nLisa Baddeley \nCraig Heinselman \nJohan Kero \nIan McCrea \nYasunobu Ogawa \n  \nOrganizer: Stephan Buchert \nRegistration\nRegistration deadline: April 26\, 2019 \nRegistration: scb@irfu.se. \nPlease note if you would like to have assistance for reserving accommodation. \nLocation\nÅngströmlaboratoriet of the Uppsala University \n  \nAccomodation\nAccommodation in Uppsala is often difficult to find for the time of the workshop\, we recommend that you book as soon as possible.
URL:https://old.eiscat.se/event/10th-eiscat_3d-users-meeting-in-uppsala-sweden-21-22-may-2019/
LOCATION:Uppsala\, Sweden
CATEGORIES:EISCAT3D User Meeting,Meeting
END:VEVENT
BEGIN:VEVENT
DTSTART;VALUE=DATE:20190327
DTEND;VALUE=DATE:20190328
DTSTAMP:20260421T002348
CREATED:20181206T075357Z
LAST-MODIFIED:20181206T080056Z
UID:14319-1553644800-1553731199@old.eiscat.se
SUMMARY:E3DDS Stakeholder Meeting 27 March 2019
DESCRIPTION:The EISCAT3D Data Solutions project announces that the Stakeholder meeting will be held on March 27th 2019 at CSC in Espoo\, Finland. \nThe meeting will include: \n\nupdate on the progress of the EISCAT_3D project\nupdate on the E3DDS project\nupdates from the national e-infra providers for EISCAT_3D\nupdate on the networking plans for EISCAT_3D\nprogress on the second deliverable (simulation of data chain) of the\nE3DDS project\noperational profiling of EISCAT_3D\n\nAn agenda page has been started at: https://wiki.neic.no/wiki/E3DDS_Stakeholder_20190327 \nWelcome!
URL:https://old.eiscat.se/event/e3dds-stakeholder-meeting-27-march-2019/
LOCATION:Espoo\, Finland
CATEGORIES:Meeting
END:VEVENT
BEGIN:VEVENT
DTSTART;VALUE=DATE:20190326
DTEND;VALUE=DATE:20190327
DTSTAMP:20260421T002348
CREATED:20181121T142129Z
LAST-MODIFIED:20190321T115701Z
UID:13934-1553558400-1553644799@old.eiscat.se
SUMMARY:The Finnish EISCAT_3D User's meeting is 26 March 2019 in Oulu\, Finland.
DESCRIPTION:The 1st Finnish EISCAT_3D User Meeting aims to inform the broad space physics\, atmospheric and radio science community on the current status and the future plans concerning the EISCAT_3D radar facility.
URL:https://old.eiscat.se/event/the-finnish-eiscat_3d-users-meeting-is-26-march-2019-in-oulu-finland/
LOCATION:Oulu\, Finland\, Oulu\, Finland
CATEGORIES:EISCAT3D User Meeting,Meeting
END:VEVENT
BEGIN:VEVENT
DTSTART;VALUE=DATE:20190226
DTEND;VALUE=DATE:20190228
DTSTAMP:20260421T002348
CREATED:20181116T153615Z
LAST-MODIFIED:20181121T143645Z
UID:8266-1551139200-1551311999@old.eiscat.se
SUMMARY:EISCAT SAC Meeting in Beijing. 26-27 February\, 2019
DESCRIPTION:Meeting time moved from 27-28 Feb. 2019 to 26-27 Feb. 2019
URL:https://old.eiscat.se/event/eiscat-sac-meeting-in-beijing-27-28-february-2019/
LOCATION:Beijing\, China\, Beijing\, China
CATEGORIES:Meeting,SAC Meeting
END:VEVENT
BEGIN:VEVENT
DTSTART;TZID=Europe/Paris:20190131T100000
DTEND;TZID=Europe/Paris:20190131T150000
DTSTAMP:20260421T002348
CREATED:20190107T162438Z
LAST-MODIFIED:20190107T162603Z
UID:14431-1548928800-1548946800@old.eiscat.se
SUMMARY:E3DS1 Second technical review\, 31 January 2019
DESCRIPTION:The Second Technical Review of the E3DS1 project will be held at Arlanda Airport on 31 January 2019. For details\, etc. please contact Project Leader Johan Svensson (johan.svensson@old.eiscat.se) \n 
URL:https://old.eiscat.se/event/e3ds1-second-technical-review-31-january-2019/
CATEGORIES:EISCAT3D Meeting,Meeting
END:VEVENT
END:VCALENDAR